BEGIN:VCALENDAR
VERSION:2.0
PRODID:iCalendar-Evo
X-WR-TIMEZONE:US/Central
BEGIN:VEVENT
DTSTAMP:20260424THI3833Z
URL:https://www.bentonar.org/events/97324/
DTSTART;TZID=US/Central:20260108T075000
DTEND;TZID=US/Central:20260108T200000
SUMMARY:Mahj & Mingle at Blue Heaven
DESCRIPTION: Mahj & Mingle at Blue Heaven  Join Crystal Clear Mahj for a fun, relaxed night of Mahjong at Blue Heaven Restaurant & Bar — our first Mahjong night at this location! Whether you’re league-curious or just want to play, this event is designed to be welcoming and low-pressure. What to expect: • Open play tables • Guided play tables with light support • League-style play and scoring • No formal lesson — just play and socialize  Tickets: $35 Single Ticket $120 Table for 4  January 8 | 6:00–8:00 PM  Blue Heaven Restaurant & Bar  Food and drinks available for purchase. You do not need to be interested in league to attend — come just to play! https://buytickets.at/crystalclearmahj/1984990  
STREET-ADDRESS:15228 I-30
LOCALITY:Benton
REGION:Arkansas
POSTAL-CODE:72019
UID:9728c845-8501-4ef5-ba11-4f79f78b5a8820260108T135000@www.bentonar.org
END:VEVENT
END:VCALENDAR