BEGIN:VCALENDAR
VERSION:2.0
PRODID:iCalendar-Evo
X-WR-TIMEZONE:US/Central
BEGIN:VEVENT
DTSTAMP:20260422THI1324Z
URL:https://www.bentonar.org/events/94749/
DTSTART;TZID=US/Central:20251206T073000
DTEND;TZID=US/Central:20251206T090000
SUMMARY:Run Run Rudolph 5K
DESCRIPTION:  Run Run Rudolph 5K & Fun Run  Get ready to dash through the snow at Benton’s most festive run of the year! Join us Saturday, December 6th for the Run Run Rudolph 5K & Fun Run, sponsored by Everett Chevrolet and hosted by the City of Benton Parks & Recreation and the Saline County Striders.  Location: Benton, AR  Check-In: 6:30 AM  5K Start: 7:30 AM  Fun Run Start: 8:30 AM  Registration Fees: • $30 (shirt included) • $35 after Nov 10 (shirt not guaranteed after Nov 13) • $40 day-of registration • $10 Fun Run (12 & under)  FREE Entry with a Toy Donation for 5K only! Register in person by December 1st with a new, unopened toy to receive free entry. All toys will be donated to the Saline County Boys & Girls Club!  Contact: specialevents@bentonar.org  501-776-5970 Lace up, wear your holiday best, and let’s run with Rudolph! 
LOCATION:Riverside Park at 1800 Citizens Drive, Benton, Arkansas 72015
GEO:34.558089400029935;-92.6066919003811
UID:6f24c601-c650-45e7-9c9f-7dc870da16c520251206T133000@www.bentonar.org
END:VEVENT
END:VCALENDAR